BEGIN:VCALENDAR
VERSION:2.0
PRODID:Data::ICal 0.21
BEGIN:VEVENT
DTEND:20170422T170000
UID:69e7b68e3326b
DTSTAMP:19700101T000000Z
LOCATION:末広中央公園
DESCRIPTION:
URL;VALUE=URI:https://takarazuka-community.jp/events/event/25th_festival/
SUMMARY:「第25回花と緑のフェスティバル」にブースを出展します！
DTSTART:20170422T090000
END:VEVENT
END:VCALENDAR