BEGIN:VCALENDAR
VERSION:2.0
PRODID:Data::ICal 0.21
BEGIN:VEVENT
DTEND:20180902T190000
UID:69e7b65778673
DTSTAMP:19700101T000000Z
LOCATION:新名神高速道路　宝塚北サービスエリア
DESCRIPTION:
URL;VALUE=URI:https://takarazuka-community.jp/events/event/201809jazz/
SUMMARY:【西谷コミュニティ】「西谷JAZZフェスタ2018」開催のお知らせ
DTSTART:20180902T170000
END:VEVENT
END:VCALENDAR