BEGIN:VCALENDAR
VERSION:2.0
PRODID:Data::ICal 0.21
BEGIN:VEVENT
DTEND:20180812T210000
UID:69e7b688bb2a1
DTSTAMP:19700101T000000Z
LOCATION:毫摂寺（境内及び周辺）
DESCRIPTION:
URL;VALUE=URI:https://takarazuka-community.jp/events/event/20180812kohama/
SUMMARY:【小浜小学校区まちづくり協議会】「小浜宿行灯まつり」開催のお知らせ
DTSTART:20180812T160000
END:VEVENT
END:VCALENDAR