BEGIN:VCALENDAR
VERSION:2.0
PRODID:Data::ICal 0.21
BEGIN:VEVENT
DTEND:20181129T160000
UID:69e818d971da4
DTSTAMP:19700101T000000Z
LOCATION:宝塚市立男女共同参画センター・エル
DESCRIPTION:
URL;VALUE=URI:https://takarazuka-community.jp/events/event/181129kouryuu/
SUMMARY:【講座案内】私たちの強みコッソリ伝えます＆市民活動交流会
DTSTART:20181129T140000
END:VEVENT
END:VCALENDAR