BEGIN:VCALENDAR
VERSION:2.0
PRODID:Data::ICal 0.21
BEGIN:VEVENT
DTEND:20180317T160000
UID:69e79d2caf00e
DTSTAMP:19700101T000000Z
LOCATION:中央公民館（宝塚市役所前）
DESCRIPTION:
URL;VALUE=URI:https://takarazuka-community.jp/events/event/180317forum/
SUMMARY:「都市景観は誰のもの?　宝塚景観まちあるきフォーラム」のお知らせ
DTSTART:20180317T133000
END:VEVENT
END:VCALENDAR