BEGIN:VCALENDAR
VERSION:2.0
PRODID:Data::ICal 0.21
BEGIN:VEVENT
DTEND:20180315T113000
UID:69e7b693dd8dc
DTSTAMP:19700101T000000Z
LOCATION:宝塚市総合福祉センター
DESCRIPTION:
URL;VALUE=URI:https://takarazuka-community.jp/events/event/180306akura/
SUMMARY:【コミュニティ安倉】子育てセミナー「いのちの講話ー地域と関わる子育ての話ー」開催のお知らせ
DTSTART:20180315T100000
END:VEVENT
END:VCALENDAR