BEGIN:VCALENDAR
VERSION:2.0
PRODID:Data::ICal 0.21
BEGIN:VEVENT
DTEND:20171004T201500
UID:69e7b68e9e8e7
DTSTAMP:19700101T000000Z
LOCATION:弁天池親水公園
DESCRIPTION:
URL;VALUE=URI:https://takarazuka-community.jp/events/event/171004nigawa/
SUMMARY:【仁川まちづくり協議会】「観月の夕べ」開催のお知らせ
DTSTART:20171004T180000
END:VEVENT
END:VCALENDAR