BEGIN:VCALENDAR
VERSION:2.0
PRODID:Data::ICal 0.21
BEGIN:VEVENT
DTEND:20170716T193000
UID:69e7b6852b568
DTSTAMP:19700101T000000Z
LOCATION:長尾ふれあいひろば
DESCRIPTION:
URL;VALUE=URI:https://takarazuka-community.jp/events/event/170716nagao/
SUMMARY:【ふれあいコミュニティ長尾】夏祭り開催のお知らせ【7/1更新】
DTSTART:20170716T150000
END:VEVENT
END:VCALENDAR