BEGIN:VCALENDAR
VERSION:2.0
PRODID:Data::ICal 0.21
BEGIN:VEVENT
DTEND:20200125T153000
UID:69e83453ae17d
DTSTAMP:19700101T000000Z
LOCATION:ぷらざこむ１
DESCRIPTION:
URL;VALUE=URI:https://takarazuka-community.jp/events/event/1-25%ef%bc%88%e5%9c%9f%ef%bc%89%e8%ac%9b%e6%bc%94%e4%bc%9a%e3%80%8c%e4%bb%8a%e3%81%ae%e3%81%be%e3%81%be%e3%81%a7%e5%a4%a7%e4%b8%88%e5%a4%ab%ef%bc%9f%ef%bc%81%e6%b4%bb%e5%8b%95%ef%bc%86%e3%81%8a/
SUMMARY:1/25（土）講演会「今のままで大丈夫？！活動＆お金のは・な・し」
DTSTART:20200125T133000
END:VEVENT
END:VCALENDAR