BEGIN:VCALENDAR
VERSION:2.0
PRODID:Data::ICal 0.21
BEGIN:VEVENT
DTEND:20190510T120000
UID:69e85e822b21f
DTSTAMP:19700101T000000Z
LOCATION:中央公民館（宝塚市役所前）
DESCRIPTION:
URL;VALUE=URI:https://takarazuka-community.jp/events/event/%e5%ae%9d%ef%a8%90%e5%b8%82%e3%81%8d%e3%81%9a%e3%81%aa%e3%81%a5%e3%81%8f%e3%82%8a%e6%8e%a8%e9%80%b2%e4%ba%8b%e6%a5%ad%e8%a3%9c%e5%8a%a9%e9%87%91-%e8%aa%ac%e6%98%8e%e4%bc%9a/
SUMMARY:宝塚市きずなづくり推進事業補助金 説明会
DTSTART:20190510T103000
END:VEVENT
END:VCALENDAR