BEGIN:VCALENDAR
VERSION:2.0
PRODID:Data::ICal 0.21
BEGIN:VEVENT
DTEND:20191101T160000
UID:69e8635b02533
DTSTAMP:19700101T000000Z
LOCATION:宝塚市立男女共同参画センター・エル
DESCRIPTION:
URL;VALUE=URI:https://takarazuka-community.jp/events/event/%e5%ae%9d%e5%a1%9a%e5%b8%82%e5%8d%94%e5%83%8d%e3%81%ae%e6%8c%87%e9%87%9d%e5%b8%82%e6%b0%91%e8%aa%ac%e6%98%8e%e4%bc%9a%e3%80%8e%e3%80%8c%e5%8d%94%e5%83%8d%e3%80%8d%e3%81%8b%e3%82%89%e7%94%9f%e3%81%be/
SUMMARY:宝塚市協働の指針市民説明会『「協働」から生まれる地域のささえあい』開催のお知らせ
DTSTART:20191101T140000
END:VEVENT
END:VCALENDAR