BEGIN:VCALENDAR
VERSION:2.0
PRODID:Data::ICal 0.21
BEGIN:VEVENT
DTEND:20191006T120000
UID:69e8732629688
DTSTAMP:19700101T000000Z
LOCATION:中央公民館（宝塚市役所前）
DESCRIPTION:
URL;VALUE=URI:https://takarazuka-community.jp/events/event/%e5%ae%9d%e5%a1%9a%e5%b8%82%e5%8d%94%e5%83%8d%e3%81%ae%e6%8c%87%e9%87%9d%e5%b8%82%e6%b0%91%e8%aa%ac%e6%98%8e%e4%bc%9a%e3%80%8c%e5%9c%b0%e5%9f%9f%e6%b4%bb%e5%8b%95%e3%81%ab%e3%81%8a%e3%81%91%e3%82%8b/
SUMMARY:宝塚市協働の指針市民説明会「地域活動における男女共同参画を学ぼう」開催のお知らせ
DTSTART:20191006T103000
END:VEVENT
END:VCALENDAR