BEGIN:VCALENDAR
VERSION:2.0
PRODID:Data::ICal 0.21
BEGIN:VEVENT
DTEND:20180203T153000
UID:69e7b70d63869
DTSTAMP:19700101T000000Z
LOCATION:宝塚市立中央公民館（宝塚市役所前）
DESCRIPTION:
URL;VALUE=URI:https://takarazuka-community.jp/events/event/%e5%ae%9d%e5%a1%9a%e5%b8%82%e5%8d%94%e5%83%8d%e3%81%ae%e6%8c%87%e9%87%9d%e5%b8%82%e6%b0%91%e8%aa%ac%e6%98%8e%e4%bc%9a%e3%80%8c%e3%81%93%e3%82%8c%e3%82%82%e5%8d%94%e5%83%8d%e3%82%84%e3%81%a3%e3%81%9f/
SUMMARY:宝塚市協働の指針市民説明会「これも協働やったんや！」開催のお知らせ
DTSTART:20180203T133000
END:VEVENT
END:VCALENDAR