BEGIN:VCALENDAR
VERSION:2.0
PRODID:Data::ICal 0.21
BEGIN:VEVENT
DTEND:20190202T153000
UID:69e833be9f6be
DTSTAMP:19700101T000000Z
LOCATION:宝塚市立西公民館（阪急小林駅下車3分）
DESCRIPTION:
URL;VALUE=URI:https://takarazuka-community.jp/events/event/%e5%8d%94%e5%83%8d%e3%81%ae%e6%8c%87%e9%87%9d%e5%b8%82%e6%b0%91%e8%aa%ac%e6%98%8e%e4%bc%9a%e3%80%8c%e5%8d%94%e5%83%8d%e3%81%af%e3%81%9f%e3%81%84%e3%81%b8%e3%82%93%e3%80%81%e3%81%a7%e3%82%82%e6%a5%bd/
SUMMARY:協働の指針市民説明会「協働はたいへん、でも楽しい！」開催のお知らせ
DTSTART:20190202T133000
END:VEVENT
END:VCALENDAR