BEGIN:VCALENDAR
VERSION:2.0
PRODID:Data::ICal 0.21
BEGIN:VEVENT
DTEND:20170402T140000
UID:69e7a0c76ff41
DTSTAMP:19700101T000000Z
LOCATION:大堀川西緑地公園
DESCRIPTION:
URL;VALUE=URI:https://takarazuka-community.jp/events/event/%e3%82%b3%e3%83%9f%e3%83%a5%e3%83%8b%e3%83%86%e3%82%a3%e5%ae%89%e5%80%89%e3%80%8c%e3%81%8a%e8%8a%b1%e8%a6%8b%e4%bc%9a%e3%80%8d%e3%81%ae%e3%81%8a%e7%9f%a5%e3%82%89%e3%81%9b/
SUMMARY:コミュニティ安倉「お花見会」のお知らせ
DTSTART:20170402T110000
END:VEVENT
END:VCALENDAR