BEGIN:VCALENDAR
VERSION:2.0
PRODID:Data::ICal 0.21
BEGIN:VEVENT
DTEND:20231001T113000
UID:69e7b7043962f
DTSTAMP:19700101T000000Z
LOCATION:
DESCRIPTION:
URL;VALUE=URI:https://takarazuka-community.jp/events/event/%e3%82%8c%e3%81%84%e3%82%8f%e3%81%ae%e8%87%aa%e6%b2%bb%e4%bc%9a%e3%80%80%ef%bd%9e%e5%8f%82%e5%8a%a0%e3%81%97%e3%82%84%e3%81%99%e3%81%84%e8%87%aa%e6%b2%bb%e4%bc%9a%e3%81%a3%e3%81%a6%e3%81%a9%e3%82%93/
SUMMARY:れいわの自治会　～参加しやすい自治会ってどんなカタチ？令和スタイルの自治会運営を考えるワークショップ。
DTSTART:20231001T100000
END:VEVENT
END:VCALENDAR