BEGIN:VCALENDAR
VERSION:2.0
PRODID:Data::ICal 0.21
BEGIN:VEVENT
DTEND:20171105T150000
UID:69e7a0ac7eb2a
DTSTAMP:19700101T000000Z
LOCATION:長尾ふれあいひろば
DESCRIPTION:
URL;VALUE=URI:https://takarazuka-community.jp/events/event/%e3%80%90%e9%95%b7%e5%b0%be%e5%9c%b0%e5%8c%ba%e3%81%be%e3%81%a1%e3%81%a5%e3%81%8f%e3%82%8a%e5%8d%94%e8%ad%b0%e4%bc%9a%e3%80%91%e3%80%8c%e9%95%b7%e5%b0%be%e3%81%b5%e3%82%8c%e3%81%82%e3%81%84%e3%83%95/
SUMMARY:【長尾地区まちづくり協議会】「長尾ふれあいフェスタ」開催のお知らせ
DTSTART:20171105T110000
END:VEVENT
END:VCALENDAR