BEGIN:VCALENDAR
VERSION:2.0
PRODID:Data::ICal 0.21
BEGIN:VEVENT
DTEND:20201113T160000
UID:69e8018c984de
DTSTAMP:19700101T000000Z
LOCATION:宝塚市立男女共同参画センター・エル
DESCRIPTION:
URL;VALUE=URI:https://takarazuka-community.jp/events/event/%e3%80%90%e9%80%a3%e7%b6%9a%ef%bc%92%e5%9b%9e%e8%ac%9b%e5%ba%a711-13%e9%87%91%e3%80%8111-27%e9%87%91%e3%80%91%e3%81%82%e3%81%aa%e3%81%9f%e3%81%ae%e5%9b%a3%e4%bd%93%e3%81%ae%e9%ad%85%e5%8a%9b/
SUMMARY:【連続２回講座11/13(金)、11/27(金)】あなたの団体の魅力向上！あの人が一緒にやりたくなるコツ伝えます
DTSTART:20201113T140000
END:VEVENT
END:VCALENDAR