BEGIN:VCALENDAR
VERSION:2.0
PRODID:Data::ICal 0.21
BEGIN:VEVENT
DTEND:20200827T160000
UID:69e81a52ad31a
DTSTAMP:19700101T000000Z
LOCATION:宝塚市立男女共同参画センター・エル
DESCRIPTION:
URL;VALUE=URI:https://takarazuka-community.jp/events/event/%e3%80%90%e8%ac%9b%e5%ba%a7%e9%96%8b%e5%82%ac%e6%83%85%e5%a0%b1%e3%80%918-27%ef%bc%88%e6%9c%a8%ef%bc%89%e9%9d%9e%e5%b8%b8%e4%ba%8b%e6%85%8b%e3%81%ab%e5%82%99%e3%81%88%e3%82%8b%ef%bd%89%ef%bd%94/
SUMMARY:【講座開催情報】8/27（木）非常事態に備えるＩＴ活用のススメ（市民活動団体向け）
DTSTART:20200827T140000
END:VEVENT
END:VCALENDAR