BEGIN:VCALENDAR
VERSION:2.0
PRODID:Data::ICal 0.21
BEGIN:VEVENT
DTEND:20200130T120000
UID:69e84d1e49092
DTSTAMP:19700101T000000Z
LOCATION:宝塚市立男女共同参画センター・エル
DESCRIPTION:
URL;VALUE=URI:https://takarazuka-community.jp/events/event/%e3%80%90%e8%ac%9b%e5%ba%a7%e9%96%8b%e5%82%ac%e6%83%85%e5%a0%b1%e3%80%912020-1-30%ef%bc%88%e6%9c%a8%ef%bc%89%e3%80%8c%e3%81%be%e3%81%a1%e3%81%a5%e3%81%8f%e3%82%8a%e3%83%bb%e5%9c%b0%e5%9f%9f%e6%b4%bb/
SUMMARY:【講座開催情報】2020/1/30（木）「まちづくり・地域活動で活かそう！ はじめてのSNS講座」
DTSTART:20200130T100000
END:VEVENT
END:VCALENDAR