BEGIN:VCALENDAR
VERSION:2.0
PRODID:Data::ICal 0.21
BEGIN:VEVENT
DTEND:20180928T113000
UID:69e7ceeca3431
DTSTAMP:19700101T000000Z
LOCATION:宝塚市立男女共同参画センター・エル
DESCRIPTION:
URL;VALUE=URI:https://takarazuka-community.jp/events/event/%e3%80%90%e8%ac%9b%e5%ba%a7%e6%a1%88%e5%86%85%e3%80%91%e5%9c%b0%e5%9f%9f%e3%81%ae%e5%b7%bb%e3%81%8d%e8%be%bc%e3%81%bf%e6%96%b9%e3%81%ae%e3%82%b3%e3%83%84%ef%bc%81%ef%bc%8b%e7%8f%be%e5%9c%b0%e8%a6%96/
SUMMARY:【講座案内】地域の巻き込み方のコツ！＋現地視察バスツアー
DTSTART:20180928T100000
END:VEVENT
END:VCALENDAR