BEGIN:VCALENDAR
VERSION:2.0
PRODID:Data::ICal 0.21
BEGIN:VEVENT
DTEND:20171207T113000
UID:69e7b71b6dad5
DTSTAMP:19700101T000000Z
LOCATION:宝塚市立男女共同参画センター・エル
DESCRIPTION:
URL;VALUE=URI:https://takarazuka-community.jp/events/event/%e3%80%90%e8%ac%9b%e5%ba%a7%e6%a1%88%e5%86%85%e3%80%91%e3%80%8c%e5%9c%b0%e5%9f%9f%e3%82%92%e6%b4%bb%e6%80%a7%e5%8c%96%e3%81%99%e3%82%8b%e3%81%9f%e3%82%81%e3%81%ae-%e8%87%aa%e4%b8%bb%e8%b2%a1%e6%ba%90/
SUMMARY:【講座案内】「地域を活性化するための 自主財源のツクリカタ」開催のお知らせ
DTSTART:20171207T093000
END:VEVENT
END:VCALENDAR