BEGIN:VCALENDAR
VERSION:2.0
PRODID:Data::ICal 0.21
BEGIN:VEVENT
DTEND:20171105T160000
UID:69e7b741dc1d6
DTSTAMP:19700101T000000Z
LOCATION:宝塚ダリア園
DESCRIPTION:
URL;VALUE=URI:https://takarazuka-community.jp/events/event/%e3%80%90%e8%a5%bf%e8%b0%b7%e3%82%b3%e3%83%9f%e3%83%a5%e3%83%8b%e3%83%86%e3%82%a3%e3%80%91%e3%80%8c%e5%ae%9d%e5%a1%9a%e3%83%80%e3%83%aa%e3%82%a2%e5%9c%92%e3%80%8d%e9%96%8b%e5%9c%92%e3%81%ae%e3%81%8a/
SUMMARY:【西谷コミュニティ】「宝塚ダリア園」開園のお知らせ
DTSTART:20170930T090000
END:VEVENT
END:VCALENDAR