BEGIN:VCALENDAR
VERSION:2.0
PRODID:Data::ICal 0.21
BEGIN:VEVENT
DTEND:20180407T160000
UID:69e7ceec304ca
DTSTAMP:19700101T000000Z
LOCATION:小浜4丁目・5丁目一帯
DESCRIPTION:
URL;VALUE=URI:https://takarazuka-community.jp/events/event/%e3%80%90%e5%b0%8f%e6%b5%9c%e5%b0%8f%e5%ad%a6%e6%a0%a1%e5%8c%ba%e3%81%be%e3%81%a1%e3%81%a5%e3%81%8f%e3%82%8a%e5%8d%94%e8%ad%b0%e4%bc%9a%e3%80%91%e3%80%8c%e7%ac%ac25%e5%9b%9e%e5%b0%8f%e6%b5%9c%e5%ae%bf/
SUMMARY:【小浜小学校区まちづくり協議会】「第25回小浜宿桜まつり」開催のお知らせ
DTSTART:20180407T100000
END:VEVENT
END:VCALENDAR