BEGIN:VCALENDAR
VERSION:2.0
PRODID:Data::ICal 0.21
BEGIN:VEVENT
DTEND:20171216T155000
UID:69e7a895bb2d8
DTSTAMP:19700101T000000Z
LOCATION:宝塚小学校体育館
DESCRIPTION:
URL;VALUE=URI:https://takarazuka-community.jp/events/event/%e3%80%90%e5%ae%9d%e5%b0%8f%e3%82%b3%e3%83%9f%e3%83%a5%e3%83%8b%e3%83%86%e3%82%a3%e3%80%91%e3%80%8c%e3%82%af%e3%83%aa%e3%82%b9%e3%83%9e%e3%82%b9%e3%83%86%e3%82%a3%e3%83%bc%e3%83%a9%e3%82%a4%e3%83%96/
SUMMARY:【宝小コミュニティ】「クリスマスティーライブ」開催のお知らせ
DTSTART:20171216T130000
END:VEVENT
END:VCALENDAR