BEGIN:VCALENDAR
VERSION:2.0
PRODID:Data::ICal 0.21
BEGIN:VEVENT
DTEND:20180924T203000
UID:69e8018767428
DTSTAMP:19700101T000000Z
LOCATION:弁天池親水公園
DESCRIPTION:
URL;VALUE=URI:https://takarazuka-community.jp/events/event/%e3%80%90%e4%bb%81%e5%b7%9d%e3%81%be%e3%81%a1%e3%81%a5%e3%81%8f%e3%82%8a%e5%8d%94%e8%ad%b0%e4%bc%9a%e3%80%91%e3%80%8c%e8%a6%b3%e6%9c%88%e3%81%ae%e5%a4%95%e3%81%b9%e3%80%8d%e3%81%8c%e9%96%8b%e5%82%ac/
SUMMARY:【仁川まちづくり協議会】「観月の夕べ」が開催されます！
DTSTART:20180924T190000
END:VEVENT
END:VCALENDAR