BEGIN:VCALENDAR
VERSION:2.0
PRODID:Data::ICal 0.21
BEGIN:VEVENT
DTEND:20171022T140000
UID:69e7cef27d85c
DTSTAMP:19700101T000000Z
LOCATION:安倉小学校グラウンド
DESCRIPTION:
URL;VALUE=URI:https://takarazuka-community.jp/events/event/%e3%80%90%e3%82%b3%e3%83%9f%e3%83%a5%e3%83%8b%e3%83%86%e3%82%a3%e5%ae%89%e5%80%89%e3%80%91%e3%80%8c%e7%ac%ac18%e5%9b%9e%e5%ae%89%e5%80%89%e3%81%b5%e3%82%8c%e3%81%82%e3%81%84%e9%81%8b%e5%8b%95%e4%bc%9a/
SUMMARY:【コミュニティ安倉】「第18回安倉ふれあい運動会」開催のお知らせ
DTSTART:20171022T093000
END:VEVENT
END:VCALENDAR