BEGIN:VCALENDAR
VERSION:2.0
PRODID:Data::ICal 0.21
BEGIN:VEVENT
DTEND:20170715T140000
UID:69e7b7188a506
DTSTAMP:19700101T000000Z
LOCATION:旧売布幼稚園
DESCRIPTION:
URL;VALUE=URI:https://takarazuka-community.jp/events/event/%e3%80%90%e3%82%b3%e3%83%9f%e3%83%a5%e3%83%8b%e3%83%86%e3%82%a3%e5%a3%b2%e5%b8%83%e3%80%91%e5%a4%8f%e7%a5%ad%e3%82%8a%e9%96%8b%e5%82%ac%e3%81%ae%e3%81%8a%e7%9f%a5%e3%82%89%e3%81%9b/
SUMMARY:【コミュニティ売布】夏祭り開催のお知らせ
DTSTART:20170715T110000
END:VEVENT
END:VCALENDAR