BEGIN:VCALENDAR
VERSION:2.0
PRODID:Data::ICal 0.21
BEGIN:VEVENT
DTEND:20221106T160000
UID:69e7b71164fdb
DTSTAMP:19700101T000000Z
LOCATION:
DESCRIPTION:
URL;VALUE=URI:https://takarazuka-community.jp/events/event/%e3%80%90%e3%82%b3%e3%83%9f%e3%83%a5%e3%83%8b%e3%83%86%e3%82%a3%e3%81%b2%e3%81%b0%e3%82%8a%e3%80%912022%e5%b9%b4%e6%ad%b4%e5%8f%b2%e8%ac%9b%e6%bc%94%e4%bc%9a%e3%81%8c%e9%96%8b%e5%82%ac%e3%81%95/
SUMMARY:【コミュニティひばり】2022年歴史講演会が開催されます
DTSTART:20221106T131500
END:VEVENT
END:VCALENDAR