BEGIN:VCALENDAR
VERSION:2.0
PRODID:Data::ICal 0.21
BEGIN:VEVENT
DTEND:20221127T150000
UID:69e7b73f7ab61
DTSTAMP:19700101T000000Z
LOCATION:北雲雀きずきの森　東エリア一帯
DESCRIPTION:
URL;VALUE=URI:https://takarazuka-community.jp/events/event/%e3%80%90%e3%82%b3%e3%83%9f%e3%83%a5%e3%83%8b%e3%83%86%e3%82%a3%e3%81%b2%e3%81%b0%e3%82%8a%e3%80%9111%e6%9c%8827%e6%97%a5%ef%bc%88%e6%97%a5%ef%bc%89%e3%80%8c%e7%ac%ac3%e5%9b%9e%e6%a3%ae%e3%81%ae/
SUMMARY:【コミュニティひばり】11月27日（日）「第3回森のワークショップとフリマ」が開催されます
DTSTART:20221127T100000
END:VEVENT
END:VCALENDAR