BEGIN:VCALENDAR
VERSION:2.0
PRODID:Data::ICal 0.21
BEGIN:VEVENT
DTEND:20211009T173000
UID:69e7e61ece489
DTSTAMP:19700101T000000Z
LOCATION:オンライン会場（Zoom）
DESCRIPTION:
URL;VALUE=URI:https://takarazuka-community.jp/events/event/%e3%80%90%e3%82%b3%e3%83%9f%e3%83%a5%e3%83%8b%e3%83%86%e3%82%a3%e3%81%b2%e3%81%b0%e3%82%8a%e3%80%91%e6%ad%b4%e5%8f%b2%e8%ac%9b%e6%bc%94%e4%bc%9a%e3%81%a8%e3%82%b9%e3%82%bf%e3%83%b3%e3%83%97%e3%83%a9/
SUMMARY:【コミュニティひばり】歴史講演会とスタンプラリー開催のお知らせ
DTSTART:20211009T140000
END:VEVENT
END:VCALENDAR