BEGIN:VCALENDAR
VERSION:2.0
PRODID:Data::ICal 0.21
BEGIN:VEVENT
DTEND:20221016T140000
UID:69e7cf1b318b3
DTSTAMP:19700101T000000Z
LOCATION:
DESCRIPTION:
URL;VALUE=URI:https://takarazuka-community.jp/events/event/%e3%80%90%e3%82%b3%e3%83%9f%e3%83%a5%e3%83%8b%e3%83%86%e3%82%a3%e3%81%b2%e3%81%b0%e3%82%8a%e3%80%91%e3%81%8a%e6%b0%97%e3%81%ab%e5%85%a5%e3%82%8a%e3%82%b9%e3%83%9d%e3%83%83%e3%83%88-%e3%82%b9%e3%82%b1/
SUMMARY:【コミュニティひばり】お気に入りスポット スケッチ展・フォトコンテストが開催されます！
DTSTART:20221015T100000
END:VEVENT
END:VCALENDAR