BEGIN:VCALENDAR
VERSION:2.0
PRODID:Data::ICal 0.21
BEGIN:VEVENT
DTEND:20191020T140000
UID:69e87a483bf4a
DTSTAMP:19700101T000000Z
LOCATION:宝塚大学 宝塚キャンパス
DESCRIPTION:
URL;VALUE=URI:https://takarazuka-community.jp/events/event/%e3%80%90%e3%82%b3%e3%83%9f%e3%83%a5%e3%83%8b%e3%83%86%e3%82%a3%e3%81%b2%e3%81%b0%e3%82%8a%e3%80%91%e3%80%8c%e7%ac%ac22%e5%9b%9e%e3%81%b2%e3%81%b0%e3%82%8a%e7%a5%ad%e3%82%8a-%e3%80%9c%e7%ac%91/
SUMMARY:【コミュニティひばり】「第22回ひばり祭り 〜笑顔はち・か・ら〜」開催のお知らせ
DTSTART:20191020T100000
END:VEVENT
END:VCALENDAR